BEGIN:VCALENDAR
VERSION:2.0
PRODID:spatie/icalendar-generator
DESCRIPTION:東京都製本工業組合のイベント
X-WR-CALDESC:東京都製本工業組合のイベント
REFRESH-INTERVAL;VALUE=DURATION:PT1440M
X-PUBLISHED-TTL:PT1440M
BEGIN:VTIMEZONE
TZID:Asia/Tokyo
BEGIN:STANDARD
DTSTART:20230729T180000Z
TZOFFSETFROM:+0900
TZOFFSETTO:+0900
END:STANDARD
END:VTIMEZONE
BEGIN:VTIMEZONE
TZID:UTC
BEGIN:STANDARD
DTSTART:20250724T193312Z
TZOFFSETFROM:+0000
TZOFFSETTO:+0000
END:STANDARD
END:VTIMEZONE
BEGIN:VEVENT
UID:976-906
DTSTAMP:20260420T193312Z
SUMMARY:第2回 紙製品製本部会 勉強会（すみだ産業会館）
LOCATION:
ORGANIZER;CN=編集者:MAILTO:
DTSTART;TZID=Asia/Tokyo:20240424T180000
DTEND;TZID=Asia/Tokyo:20240424T190000
X-ALT-DESC;FMTTYPE=TEXT/HTML:
CATEGORIES:General
URL;VALUE=URI:
METHOD:PUBLISH
END:VEVENT
END:VCALENDAR